BEGIN:VCALENDAR
VERSION:2.0
PRODID:-//Live The Dream - ECPv6.15.20//NONSGML v1.0//EN
CALSCALE:GREGORIAN
METHOD:PUBLISH
X-WR-CALNAME:Live The Dream
X-ORIGINAL-URL:https://livethedream.org
X-WR-CALDESC:Events for Live The Dream
REFRESH-INTERVAL;VALUE=DURATION:PT1H
X-Robots-Tag:noindex
X-PUBLISHED-TTL:PT1H
BEGIN:VTIMEZONE
TZID:America/Los_Angeles
BEGIN:DAYLIGHT
TZOFFSETFROM:-0800
TZOFFSETTO:-0700
TZNAME:PDT
DTSTART:20230312T100000
END:DAYLIGHT
BEGIN:STANDARD
TZOFFSETFROM:-0700
TZOFFSETTO:-0800
TZNAME:PST
DTSTART:20231105T090000
END:STANDARD
BEGIN:DAYLIGHT
TZOFFSETFROM:-0800
TZOFFSETTO:-0700
TZNAME:PDT
DTSTART:20240310T100000
END:DAYLIGHT
BEGIN:STANDARD
TZOFFSETFROM:-0700
TZOFFSETTO:-0800
TZNAME:PST
DTSTART:20241103T090000
END:STANDARD
BEGIN:DAYLIGHT
TZOFFSETFROM:-0800
TZOFFSETTO:-0700
TZNAME:PDT
DTSTART:20250309T100000
END:DAYLIGHT
BEGIN:STANDARD
TZOFFSETFROM:-0700
TZOFFSETTO:-0800
TZNAME:PST
DTSTART:20251102T090000
END:STANDARD
END:VTIMEZONE
BEGIN:VEVENT
DTSTART;TZID=America/Los_Angeles:20240615T110000
DTEND;TZID=America/Los_Angeles:20240615T160000
DTSTAMP:20260425T070633
CREATED:20240531T190931Z
LAST-MODIFIED:20240802T035556Z
UID:2107-1718449200-1718467200@livethedream.org
SUMMARY:Outlander by Diana Gabaldon: Poly? Science Fiction/Fantasy?
DESCRIPTION:Yes to all that. It is even Pagan\, as time travel is accomplished by going Through the Stones — best done at the time of Samhain. I have on my refrigerator a magnet which says “Not only was I a bigamist and an adulteress\, I had enjoyed it.” Claire Frazier on her wedding night to Jamie\, the Love of her life.\nHaving traveled backward in time to the 1700s\, Claire fell in love with and married Jamie while still wed (in some sense) to Frank\, a man who would not be born for 200 years. Yet she chose to wear Frank’s ring as well as Jamie’s even after Frank’s death in her own time. Another character in that Past time marries two men who are twin brothers.\nWhen I asked the writer\, at a presentation\, whether she was polyamorous\, as I offered her a Live The Dream newsletter (to my daughter’s embarrassment\, as she knew the author from handling autograph tables for many years at SF cons)\, Diana said\, “Haven’t you read my books?” and laughingly took the newsletter. She wrote those books to explore what kind of love lasts for fifty years\, with Jamie and Clare as the example of long-lasting erotic joy well into grandparenthood\, deep caring that endures through deep emotional trauma\, and commitment that defies space and time.\nI love the books and the TV series. Speaking on this topic is my birthday gift to myself: June 15 is my 71st birthday. Cake and ice cream for me—let us know if you have a June birthday to celebrate along with mine—we will add your name to the cake.
URL:https://livethedream.org/event/outlander-by-diana-gabaldon-poly-science-fiction-fantasy/
LOCATION:Live and on Zoom\, 8515 Penfield Ave\, Winnetka\, CA\, 91306\, United States
CATEGORIES:Live The Dream 3rd Saturday,Pot Luck
END:VEVENT
END:VCALENDAR