BEGIN:VCALENDAR
VERSION:2.0
PRODID:-//Live The Dream - ECPv6.15.20//NONSGML v1.0//EN
CALSCALE:GREGORIAN
METHOD:PUBLISH
X-WR-CALNAME:Live The Dream
X-ORIGINAL-URL:https://livethedream.org
X-WR-CALDESC:Events for Live The Dream
REFRESH-INTERVAL;VALUE=DURATION:PT1H
X-Robots-Tag:noindex
X-PUBLISHED-TTL:PT1H
BEGIN:VTIMEZONE
TZID:America/Los_Angeles
BEGIN:DAYLIGHT
TZOFFSETFROM:-0800
TZOFFSETTO:-0700
TZNAME:PDT
DTSTART:20230312T100000
END:DAYLIGHT
BEGIN:STANDARD
TZOFFSETFROM:-0700
TZOFFSETTO:-0800
TZNAME:PST
DTSTART:20231105T090000
END:STANDARD
BEGIN:DAYLIGHT
TZOFFSETFROM:-0800
TZOFFSETTO:-0700
TZNAME:PDT
DTSTART:20240310T100000
END:DAYLIGHT
BEGIN:STANDARD
TZOFFSETFROM:-0700
TZOFFSETTO:-0800
TZNAME:PST
DTSTART:20241103T090000
END:STANDARD
BEGIN:DAYLIGHT
TZOFFSETFROM:-0800
TZOFFSETTO:-0700
TZNAME:PDT
DTSTART:20250309T100000
END:DAYLIGHT
BEGIN:STANDARD
TZOFFSETFROM:-0700
TZOFFSETTO:-0800
TZNAME:PST
DTSTART:20251102T090000
END:STANDARD
END:VTIMEZONE
BEGIN:VEVENT
DTSTART;TZID=America/Los_Angeles:20240907T173000
DTEND;TZID=America/Los_Angeles:20240907T200000
DTSTAMP:20260425T035928
CREATED:20240907T041532Z
LAST-MODIFIED:20240907T041532Z
UID:2216-1725730200-1725739200@livethedream.org
SUMMARY:Southern California Poly Meetup
DESCRIPTION:www.meetup.com/socal-polyamory \nMonthly meetup that happens on the first Saturday of each month\, from 5:30 to 8:30 pm PDT located at Pitfire Pizza 5211 Lankershim Blvd. NoHo\, led by Jim Bratcher. Join us for informal socializing with kindred spirits in the Poly community! Call Jim at 626-818-8021 for more info.
URL:https://livethedream.org/event/southern-california-poly-meetup/
LOCATION:Pitfire Pizza\, 5211 Lankershim Blvd\, North Hollywood\, CA\, 91601\, United States
END:VEVENT
END:VCALENDAR