BEGIN:VCALENDAR
VERSION:2.0
PRODID:-//Live The Dream - ECPv6.15.20//NONSGML v1.0//EN
CALSCALE:GREGORIAN
METHOD:PUBLISH
X-ORIGINAL-URL:https://livethedream.org
X-WR-CALDESC:Events for Live The Dream
REFRESH-INTERVAL;VALUE=DURATION:PT1H
X-Robots-Tag:noindex
X-PUBLISHED-TTL:PT1H
BEGIN:VTIMEZONE
TZID:America/Los_Angeles
BEGIN:DAYLIGHT
TZOFFSETFROM:-0800
TZOFFSETTO:-0700
TZNAME:PDT
DTSTART:20240310T100000
END:DAYLIGHT
BEGIN:STANDARD
TZOFFSETFROM:-0700
TZOFFSETTO:-0800
TZNAME:PST
DTSTART:20241103T090000
END:STANDARD
BEGIN:DAYLIGHT
TZOFFSETFROM:-0800
TZOFFSETTO:-0700
TZNAME:PDT
DTSTART:20250309T100000
END:DAYLIGHT
BEGIN:STANDARD
TZOFFSETFROM:-0700
TZOFFSETTO:-0800
TZNAME:PST
DTSTART:20251102T090000
END:STANDARD
BEGIN:DAYLIGHT
TZOFFSETFROM:-0800
TZOFFSETTO:-0700
TZNAME:PDT
DTSTART:20260308T100000
END:DAYLIGHT
BEGIN:STANDARD
TZOFFSETFROM:-0700
TZOFFSETTO:-0800
TZNAME:PST
DTSTART:20261101T090000
END:STANDARD
END:VTIMEZONE
BEGIN:VEVENT
DTSTART;TZID=America/Los_Angeles:20250816T110000
DTEND;TZID=America/Los_Angeles:20250816T160000
DTSTAMP:20260423T233123
CREATED:20250707T181824Z
LAST-MODIFIED:20250807T022712Z
UID:2459-1755342000-1755360000@livethedream.org
SUMMARY:The Harrad Experiment: Learning to be Poly in College
DESCRIPTION:Will Jarvis attended Goddard College\, an experimental college in Vermont. Robert Rimmer lived nearby in Massachusetts\, and is thought to have used Goddard College as a foundation when he wrote The Harrad Experiment. The one in the book featured coed dorms in which young men and women were encouraged to form relationships ranging from friendship to sexual love connections. How much of the real life school was reflected in the book? We’ll find out! \nLed by Will Jarvis.
URL:https://livethedream.org/event/the-harrad-experiment-learning-to-be-poly-in-college/
LOCATION:Live and on Zoom\, 8515 Penfield Ave\, Winnetka\, CA\, 91306\, United States
CATEGORIES:Live The Dream 3rd Saturday
END:VEVENT
END:VCALENDAR