BEGIN:VCALENDAR
VERSION:2.0
PRODID:-//Live The Dream - ECPv6.15.20//NONSGML v1.0//EN
CALSCALE:GREGORIAN
METHOD:PUBLISH
X-WR-CALNAME:Live The Dream
X-ORIGINAL-URL:https://livethedream.org
X-WR-CALDESC:Events for Live The Dream
REFRESH-INTERVAL;VALUE=DURATION:PT1H
X-Robots-Tag:noindex
X-PUBLISHED-TTL:PT1H
BEGIN:VTIMEZONE
TZID:America/Los_Angeles
BEGIN:DAYLIGHT
TZOFFSETFROM:-0800
TZOFFSETTO:-0700
TZNAME:PDT
DTSTART:20250309T100000
END:DAYLIGHT
BEGIN:STANDARD
TZOFFSETFROM:-0700
TZOFFSETTO:-0800
TZNAME:PST
DTSTART:20251102T090000
END:STANDARD
BEGIN:DAYLIGHT
TZOFFSETFROM:-0800
TZOFFSETTO:-0700
TZNAME:PDT
DTSTART:20260308T100000
END:DAYLIGHT
BEGIN:STANDARD
TZOFFSETFROM:-0700
TZOFFSETTO:-0800
TZNAME:PST
DTSTART:20261101T090000
END:STANDARD
BEGIN:DAYLIGHT
TZOFFSETFROM:-0800
TZOFFSETTO:-0700
TZNAME:PDT
DTSTART:20270314T100000
END:DAYLIGHT
BEGIN:STANDARD
TZOFFSETFROM:-0700
TZOFFSETTO:-0800
TZNAME:PST
DTSTART:20271107T090000
END:STANDARD
END:VTIMEZONE
BEGIN:VEVENT
DTSTART;TZID=America/Los_Angeles:20260321T100000
DTEND;TZID=America/Los_Angeles:20260321T160000
DTSTAMP:20260423T100937
CREATED:20260123T195541Z
LAST-MODIFIED:20260123T195541Z
UID:2693-1774087200-1774108800@livethedream.org
SUMMARY:Fifty Years of Polyamory in America Made the Bold Authors Curated Reading List
DESCRIPTION:Fifty Years of Polyamory in America: A Guided Tour of a Growing Movement\, by Glen W. Olsen and Terry Lee Brussel-Rogers\, made the Bold Authors curated reading list Listicle #2\, titled Looking Ahead to 2026: Cultural & Social Perspectives That Matter. Glen Olsen will join us for our March 21\, 2026\, Live The Dream meeting to tell us all about it.
URL:https://livethedream.org/event/fifty-years-of-polyamory-in-america-made-the-bold-authors-curated-reading-list/
LOCATION:Live and on Zoom\, 8515 Penfield Ave\, Winnetka\, CA\, 91306\, United States
CATEGORIES:Live The Dream 3rd Saturday
END:VEVENT
END:VCALENDAR