BEGIN:VCALENDAR
VERSION:2.0
PRODID:-//Live The Dream - ECPv6.15.20//NONSGML v1.0//EN
CALSCALE:GREGORIAN
METHOD:PUBLISH
X-ORIGINAL-URL:https://livethedream.org
X-WR-CALDESC:Events for Live The Dream
REFRESH-INTERVAL;VALUE=DURATION:PT1H
X-Robots-Tag:noindex
X-PUBLISHED-TTL:PT1H
BEGIN:VTIMEZONE
TZID:America/Los_Angeles
BEGIN:DAYLIGHT
TZOFFSETFROM:-0800
TZOFFSETTO:-0700
TZNAME:PDT
DTSTART:20250309T100000
END:DAYLIGHT
BEGIN:STANDARD
TZOFFSETFROM:-0700
TZOFFSETTO:-0800
TZNAME:PST
DTSTART:20251102T090000
END:STANDARD
BEGIN:DAYLIGHT
TZOFFSETFROM:-0800
TZOFFSETTO:-0700
TZNAME:PDT
DTSTART:20260308T100000
END:DAYLIGHT
BEGIN:STANDARD
TZOFFSETFROM:-0700
TZOFFSETTO:-0800
TZNAME:PST
DTSTART:20261101T090000
END:STANDARD
BEGIN:DAYLIGHT
TZOFFSETFROM:-0800
TZOFFSETTO:-0700
TZNAME:PDT
DTSTART:20270314T100000
END:DAYLIGHT
BEGIN:STANDARD
TZOFFSETFROM:-0700
TZOFFSETTO:-0800
TZNAME:PST
DTSTART:20271107T090000
END:STANDARD
END:VTIMEZONE
BEGIN:VEVENT
DTSTART;TZID=America/Los_Angeles:20260418T110000
DTEND;TZID=America/Los_Angeles:20260418T160000
DTSTAMP:20260423T085159
CREATED:20260303T012819Z
LAST-MODIFIED:20260303T012819Z
UID:2733-1776510000-1776528000@livethedream.org
SUMMARY:Poly Intersection: Renaissance Pleasure Faire\, Society for Creative Anachronism\, and Dungeons & Dragons.
DESCRIPTION:Led by Elaine Anderson. \nElaine has been a member of Queen’s Court in SCA several times\, participated in Renaissance Pleasure Faire\, and been active in Dungeons & Dragon activities for many years. \nThe Renaissance Pleasure Faire of Southern California was founded by Phyllis and Ron Patterson in 1963. In 1966\, a group of friends (including the writers Diaba Paxson\, Marion\nZimmer Bradley\, Poul Anderson\, and Karen Kruse Anderson) interested in historical reenactment and science fiction/fantasy founded the Society for Creative Anachronism at an\nevent now known as First Tournament in Berkeley\, California. \nBetween that time and this couples have met at Faire or SCA\, married in the Faire Wedding Garden and brought their children back to enjoy it. Some of them have been in Guilds which\nfeature role play Families which can become very real for the 6-12 weekends of Faire and preparing for Faire each year..perhaps for decades. This is even more true with SCA events\nwhich occur several times a year and can involve staying on site for whole weekends or more for the Wars.
URL:https://livethedream.org/event/poly-intersection-renaissance-pleasure-faire-society-for-creative-anachronism-and-dungeons-dragons/
LOCATION:Live and on Zoom\, 8515 Penfield Ave\, Winnetka\, CA\, 91306\, United States
CATEGORIES:Live The Dream 3rd Saturday
END:VEVENT
END:VCALENDAR