BEGIN:VCALENDAR
VERSION:2.0
PRODID:-//Live The Dream - ECPv6.15.20//NONSGML v1.0//EN
CALSCALE:GREGORIAN
METHOD:PUBLISH
X-WR-CALNAME:Live The Dream
X-ORIGINAL-URL:https://livethedream.org
X-WR-CALDESC:Events for Live The Dream
REFRESH-INTERVAL;VALUE=DURATION:PT1H
X-Robots-Tag:noindex
X-PUBLISHED-TTL:PT1H
BEGIN:VTIMEZONE
TZID:America/Los_Angeles
BEGIN:DAYLIGHT
TZOFFSETFROM:-0800
TZOFFSETTO:-0700
TZNAME:PDT
DTSTART:20170312T100000
END:DAYLIGHT
BEGIN:STANDARD
TZOFFSETFROM:-0700
TZOFFSETTO:-0800
TZNAME:PST
DTSTART:20171105T090000
END:STANDARD
BEGIN:DAYLIGHT
TZOFFSETFROM:-0800
TZOFFSETTO:-0700
TZNAME:PDT
DTSTART:20180311T100000
END:DAYLIGHT
BEGIN:STANDARD
TZOFFSETFROM:-0700
TZOFFSETTO:-0800
TZNAME:PST
DTSTART:20181104T090000
END:STANDARD
BEGIN:DAYLIGHT
TZOFFSETFROM:-0800
TZOFFSETTO:-0700
TZNAME:PDT
DTSTART:20190310T100000
END:DAYLIGHT
BEGIN:STANDARD
TZOFFSETFROM:-0700
TZOFFSETTO:-0800
TZNAME:PST
DTSTART:20191103T090000
END:STANDARD
END:VTIMEZONE
BEGIN:VEVENT
DTSTART;TZID=America/Los_Angeles:20180519T110000
DTEND;TZID=America/Los_Angeles:20180519T160000
DTSTAMP:20260424T050538
CREATED:20180315T154656Z
LAST-MODIFIED:20180315T154656Z
UID:382-1526727600-1526745600@livethedream.org
SUMMARY:Burningman: Polyparadise’s 20 Years In The Desert
DESCRIPTION:The Village of PolyParadise has been influencing the Hearts & Minds and Washing the Bodies of Playa Citizens from ‘2:00 – 10:00‘ since 1999 celebrating 20 years in BRC in 2018.  Come sit & talk with 14-time Burner\, Harold about Poly Paradise\, the many other poly/poly friendly camps that have been at Burning Man since 2000. We will also discuss the difference between a Camp and a Village… and what it means to grow from 20 people to 300 including people from over 12 other countries!  And most of all\, how YOU can be a part of this yourself!  Please\, if you have ever been to or camped with PolyParadise\, we welcome your participation in this conversation \nPlease note: if you are planning on going to Burning Man in 2018\, the main ticket sale is coming up this month! Registration is March 21-23 with the ticket sale on March 28th! \n1pm Pot Luck lunch (and it is both Harold & Marcus’s birthdays earlier this week!) \n2-4 pm Socialize in the clothing optional Hot tub. Bring sandals and a towel.
URL:https://livethedream.org/event/burningman-polyparadises-20-years-in-the-desert/
CATEGORIES:burningman
END:VEVENT
END:VCALENDAR