BEGIN:VCALENDAR
VERSION:2.0
PRODID:-//Live The Dream - ECPv6.15.20//NONSGML v1.0//EN
CALSCALE:GREGORIAN
METHOD:PUBLISH
X-WR-CALNAME:Live The Dream
X-ORIGINAL-URL:https://livethedream.org
X-WR-CALDESC:Events for Live The Dream
REFRESH-INTERVAL;VALUE=DURATION:PT1H
X-Robots-Tag:noindex
X-PUBLISHED-TTL:PT1H
BEGIN:VTIMEZONE
TZID:America/Los_Angeles
BEGIN:DAYLIGHT
TZOFFSETFROM:-0800
TZOFFSETTO:-0700
TZNAME:PDT
DTSTART:20250309T100000
END:DAYLIGHT
BEGIN:STANDARD
TZOFFSETFROM:-0700
TZOFFSETTO:-0800
TZNAME:PST
DTSTART:20251102T090000
END:STANDARD
BEGIN:DAYLIGHT
TZOFFSETFROM:-0800
TZOFFSETTO:-0700
TZNAME:PDT
DTSTART:20260308T100000
END:DAYLIGHT
BEGIN:STANDARD
TZOFFSETFROM:-0700
TZOFFSETTO:-0800
TZNAME:PST
DTSTART:20261101T090000
END:STANDARD
BEGIN:DAYLIGHT
TZOFFSETFROM:-0800
TZOFFSETTO:-0700
TZNAME:PDT
DTSTART:20270314T100000
END:DAYLIGHT
BEGIN:STANDARD
TZOFFSETFROM:-0700
TZOFFSETTO:-0800
TZNAME:PST
DTSTART:20271107T090000
END:STANDARD
END:VTIMEZONE
BEGIN:VEVENT
DTSTART;TZID=America/Los_Angeles:20260117T110000
DTEND;TZID=America/Los_Angeles:20260117T230000
DTSTAMP:20260424T073106
CREATED:20251210T193805Z
LAST-MODIFIED:20251210T194606Z
UID:2633-1768647600-1768690800@livethedream.org
SUMMARY:Memorial for Leslie Fish
DESCRIPTION:Live the Dream will host a memorial day for Leslie Fish\, Poly anarchist and prolific filk writer/performer. \nJoining us for this Memorial to speak about Leslie and share their personal experiences with her: \n\n\nOberon Zell\, founder of Church of All Worlds\, the first officially recognized Neopagan religion in the US. \n\n\nPaul Gibbons\, Political Activist/Libertarian/Anarchist and Water Brother to Leslie Fish. \n\n\nElaine Anderson\, Deputy Lady in Waiting to the Queen of Caid in the SCA for 2025. \n\n\nTerry Brussel-Rogers\, Founder of Live the Dream and Leslie’s Water Brother will share her knowledge of some of Leslie’s Poly experiences. \n\n\nAdditional speakers may be announced in the future. \nThe day includes a potluck lunch and a potluck dinner. There is afternoon time for discussion\, socializing\, etc. \nIn the evening\, Live the Dream will host the monthly LAFA (Los Angeles Filkers Anonymous) filksing\, focusing on Leslie and her music. \nThe Live the Dream meeting will be Live and On Zoom 11am – 1 pm PT. \nThe LAFA filk will be Live and On Zoom 6 – 11 pm PT; the first hour will be a live and virtual dinner\, with music commencing at 7 pm PT.
URL:https://livethedream.org/event/memorial-for-leslie-fish/
LOCATION:Live and on Zoom\, 8515 Penfield Ave\, Winnetka\, CA\, 91306\, United States
CATEGORIES:Live Music,Live The Dream 3rd Saturday,Pot Luck,Special Event
END:VEVENT
END:VCALENDAR