BEGIN:VCALENDAR
VERSION:2.0
PRODID:-//Live The Dream - ECPv6.15.20//NONSGML v1.0//EN
CALSCALE:GREGORIAN
METHOD:PUBLISH
X-ORIGINAL-URL:https://livethedream.org
X-WR-CALDESC:Events for Live The Dream
REFRESH-INTERVAL;VALUE=DURATION:PT1H
X-Robots-Tag:noindex
X-PUBLISHED-TTL:PT1H
BEGIN:VTIMEZONE
TZID:America/Los_Angeles
BEGIN:DAYLIGHT
TZOFFSETFROM:-0800
TZOFFSETTO:-0700
TZNAME:PDT
DTSTART:20220313T100000
END:DAYLIGHT
BEGIN:STANDARD
TZOFFSETFROM:-0700
TZOFFSETTO:-0800
TZNAME:PST
DTSTART:20221106T090000
END:STANDARD
BEGIN:DAYLIGHT
TZOFFSETFROM:-0800
TZOFFSETTO:-0700
TZNAME:PDT
DTSTART:20230312T100000
END:DAYLIGHT
BEGIN:STANDARD
TZOFFSETFROM:-0700
TZOFFSETTO:-0800
TZNAME:PST
DTSTART:20231105T090000
END:STANDARD
BEGIN:DAYLIGHT
TZOFFSETFROM:-0800
TZOFFSETTO:-0700
TZNAME:PDT
DTSTART:20240310T100000
END:DAYLIGHT
BEGIN:STANDARD
TZOFFSETFROM:-0700
TZOFFSETTO:-0800
TZNAME:PST
DTSTART:20241103T090000
END:STANDARD
END:VTIMEZONE
BEGIN:VEVENT
DTSTART;TZID=America/Los_Angeles:20230520T110000
DTEND;TZID=America/Los_Angeles:20230520T160000
DTSTAMP:20260425T153059
CREATED:20230508T225651Z
LAST-MODIFIED:20231107T012325Z
UID:1429-1684580400-1684598400@livethedream.org
SUMMARY:Spider Robinson’s Poly Primers
DESCRIPTION:Spider Robinson’s Poly Primers\nZoom 11 am to 1 pm | Live 11 am to 4 pm\nCallahan’s Crosstime Saloon introduces a group of people who support each other in handling their problems and celebrating their joys. In this and later books they go beyond this to actual group telepathic communication. In Callahan’s Keys\, they show their commitment to each other by all moving out-of-state together when local laws and the abuse of them prevented them from meeting together where they were. \nAccording to Spider’s biographical material\, many of the metaphysical as well as the group-related experiences come from his real-life ones with his expanded family and close friends during the ‘60s in Haight Ashbury. The Lady Callahan books are definitely Poly as committed couples share their partners with customers of this high-class brothel/ international diplomacy center. The “artists” who work there have relationships with the Lady herself\, other artists (some of which include legal marriage)\, etc. \nLady Callahan’s place could itself be considered a group house since the artists and some of their partners actually do live there. Spider’s Stardance series features very unusually configured group marriages— combining extra-terrestrials with humans\, gays with straights who share mental “intercourse” etc. Eventually\, his proposed intentional Family includes the whole human race\, past\, present\, and future. \nSpider Robinson has written many other stories with incidental poly themes in fictional worlds where it is assumed any choice of whom and how many you love is OK. He has been called the new Heinlein by many. \nHow can we use this information in our own group living and multiple committed relationship efforts? \n\n11am | Lively Poly Discussion\n1pm | Potluck Lunch – Bring something healthy and delicious to share.  \n2-4pm | Socializing in the clothing-optional hot tub\, Bring sandals and a towel\n\nIf you haven’t already done so\, make sure to check out this month’s LTD newsletter.\n\nJoin Zoom Meeting\n https://us02web.zoom.us/j/3175971626?pwd=NWVjU3A2M0I2Q29IUkI4L1lMRzd2QT09 \nMeeting ID: 317 597 1626  Passcode: Heinlein \nFind us Always here on the 3rd Saturday from 11AM-  1PM Pacific Time. This will be our Zoom ID from now on.\n\nSuggested Donation (live only)\n\nNon-Members: $10/person.\n\nAttendance is included if you join Live the Dream the day of the meeting (annual membership is $25 for singles and $40 for couples or groups at the same address).\n\n\nPaid Members: $5/person.\n\nGentlemen (potluck dish appreciated). \nLadies\, free with a potluck dish to share\, otherwise same donation as gentlemen otherwise.
URL:https://livethedream.org/event/spider-robinsons-poly-primers-2/
LOCATION:Live and on Zoom\, 8515 Penfield Ave\, Winnetka\, CA\, 91306\, United States
CATEGORIES:Live The Dream 3rd Saturday,Pot Luck
END:VEVENT
BEGIN:VEVENT
DTSTART;TZID=America/Los_Angeles:20230318T110000
DTEND;TZID=America/Los_Angeles:20230318T160000
DTSTAMP:20260425T153059
CREATED:20230314T203313Z
LAST-MODIFIED:20230415T004605Z
UID:1390-1679137200-1679155200@livethedream.org
SUMMARY:How to Be Ready for the Relationship You Most Desire
DESCRIPTION:How to Be Ready for the Relationship You Most Desire\nZoom 11 am to 1 pm | Live 11 am to 4 pm\nLed by Paul Gibbons and Terry Brussel-Rogers\nAlone right now? \nPerhaps you are not alone but would like the relationship you are in to be more joyous for all involved. \nThere are ways to take care of your own sexual needs while you are looking for a partner or partners. \nSome of them prepare you for the delights of loving connections…even draw those lovers to you. Others do not. We will discuss our own experiences with this and what we have learned from others over the years about what you can do to be ready for SEXUALOVE in a poly lifestyle. Both Paul and Terry have been poly since their late teens (before the word was coined). They presented Bisexual Polyamorous Couple Forming a Group Marriage at many conventions over the years. \nTerry as a hypnotherapist and Paul as an audio engineer/inspiration have made together such exciting guided meditations as Male Multiple Orgasm\, Sexual Enhancement for Couples\, Intimacy Without Jealousy (Monogamous and Poly versions)\, and Release Sexual Inhibitions. More are being created even as this is written. They are available on AceSuccess.com and ReachForTheStars.Today. Terry won the Lifestyles Award for Contributing to the Knowledge of Human Sexuality in 1988 and has learned a lot more since then! \nCome GROW with us… \n\n11am | Lively Poly Discussion\n1pm | PotLuck Lunch – Bring something healthy and delicious to share.  \n2-4pm |Socializing in the clothing-optional hot tub\, Bring sandals and a towel\n\n\nIf you haven’t already done so\, make sure to check out this month’s LTD newsletter.\n\nJoin Zoom Meeting\n https://us02web.zoom.us/j/3175971626?pwd=NWVjU3A2M0I2Q29IUkI4L1lMRzd2QT09 \nMeeting ID: 317 597 1626  Passcode: Heinlein \nFind us Always here on the 3rd Saturday from 11AM-  1PM Pacific Time. This will be our Zoom ID from now on.\n\nSuggested Donation (live only)\n\nNon-Members: $10/person.\n\nAttendance is included if you join Live the Dream the day of the meeting (annual membership is $25 for singles and $40 for couples or groups at the same address).\n\n\nPaid Members: $5/person.\n\nGentlemen (potluck dish appreciated). \nLadies\, free with a potluck dish to share\, otherwise same donation as gentlemen otherwise.
URL:https://livethedream.org/event/how-to-be-ready-for-the-relationship-you-most-desire/
LOCATION:Live and on Zoom\, 8515 Penfield Ave\, Winnetka\, CA\, 91306\, United States
CATEGORIES:Live The Dream 3rd Saturday,Pot Luck
END:VEVENT
BEGIN:VEVENT
DTSTART;TZID=America/Los_Angeles:20230318T110000
DTEND;TZID=America/Los_Angeles:20230318T160000
DTSTAMP:20260425T153059
CREATED:20230314T184740Z
LAST-MODIFIED:20230314T191953Z
UID:1366-1679137200-1679155200@livethedream.org
SUMMARY:Dragon Riders of (Poly) Pern by Anne McCaffery + St. Patrick’s Day Celebration!
DESCRIPTION:Dragon Riders of (Poly) Pern by Anne McCaffery\nZoom 11 am to 1 pm | Live 11 am to 4 pm\nLed by Mark Merlino and Rod O’Reilley\, founders of “Furry Fandom” and of The Prancing Skiltare\, a group house spanning decades!\nThey have been in an open committed relationship (which has often included long-term lovers/ housemates) for 34 years. \nWhile Science Fiction inspires this meeting\, the intent of presenting it is to learn how to use it in our own poly lives. \nYES\, you can attend and enjoy the meeting without having read the books! \nAnne’s original stories were poly oriented simply by featuring characters bonded emotionally for life to sentient telepathic dragons. Many of these Dragon Riders were also bonded to human mates with whom they shared romantic and physically sexual connections. Anne’s son and daughter have written their own books in that universe which could actually be considered Poly Primers describing different ways of creating and maintaining multiple committed relationships with human partners. \nIn a world protected from life-destroying spores by genetically engineered fire-breathing dragons bonded at their hatching to empathic human dragon riders\, the social structure is an unusual one. Queen dragons are ridden by women\, Browns and Bronzes by males. However\, males\, as well as females\, can bond with and ride female fire-breathing green dragons. When a rider’s dragon makes her mating flight\, the passions of their dragons cause the riders to mate in their own way. In the Weyr caves which house dragons and their riders\, sexual mores are different from those on the rest of the planet of Pern since dragons may not honor the current romantic commitments of their riders when mating. Since the Weyrs are group living arrangements in any case\, children resulting from such liaisons are raised by the “village” with a foster mother and/or father doing the primary parenting. \nHappy St. Patrick’s Day! \n\n1pm | Potluck Lunch – Corn beef and cabbage provided by your host and hostess. Bring something healthy and delicious to share\, please.  \n2pm |Spring Equinox ritual. Flowers\, joy… gratitude for the beauty and abundant fertility of Mother nature.\n3-4pm |Hot tubbing and/or listening to Pern-inspired music—tends to be pretty Celtic. Schooling on Pern is done by Harpers from the Harper’s Hall where musically inclined lads and lassies are apprenticed as early teens to become storytellers\, singers\, composers\, and musicians. More classic St. Patrick’s Day music such as Irish Rovers also available. Note\, if interested in socializing in the clothing-optional hot tub\, bring sandals and a towel.\n\n\nJoin Zoom Meeting\n https://us02web.zoom.us/j/3175971626?pwd=NWVjU3A2M0I2Q29IUkI4L1lMRzd2QT09 \nMeeting ID: 317 597 1626  Passcode: Heinlein \nFind us Always here on the 3rd Saturday from 11AM-  1PM Pacific Time. This will be our Zoom ID from now on.\n\nSuggested Donation (live only)\n\nNon-Members: $10/person.\n\nAttendance is included if you join Live the Dream the day of the meeting (annual membership is $25 for singles and $40 for couples or groups at the same address).\n\n\nPaid Members: $5/person.\n\nGentlemen (potluck dish appreciated). \nLadies\, free with a potluck dish to share\, otherwise same donation as gentlemen otherwise.
URL:https://livethedream.org/event/dragon-riders-of-poly-pern-by-anne-mccaffery-st-patricks-day-celebration/
LOCATION:Live and on Zoom\, 8515 Penfield Ave\, Winnetka\, CA\, 91306\, United States
CATEGORIES:Holiday Themed,Live Music,Live The Dream 3rd Saturday,Pagan Ritual,Pot Luck
END:VEVENT
END:VCALENDAR