BEGIN:VCALENDAR
VERSION:2.0
PRODID:-//Live The Dream - ECPv6.15.20//NONSGML v1.0//EN
CALSCALE:GREGORIAN
METHOD:PUBLISH
X-ORIGINAL-URL:https://livethedream.org
X-WR-CALDESC:Events for Live The Dream
REFRESH-INTERVAL;VALUE=DURATION:PT1H
X-Robots-Tag:noindex
X-PUBLISHED-TTL:PT1H
BEGIN:VTIMEZONE
TZID:America/Los_Angeles
BEGIN:DAYLIGHT
TZOFFSETFROM:-0800
TZOFFSETTO:-0700
TZNAME:PDT
DTSTART:20250309T100000
END:DAYLIGHT
BEGIN:STANDARD
TZOFFSETFROM:-0700
TZOFFSETTO:-0800
TZNAME:PST
DTSTART:20251102T090000
END:STANDARD
BEGIN:DAYLIGHT
TZOFFSETFROM:-0800
TZOFFSETTO:-0700
TZNAME:PDT
DTSTART:20260308T100000
END:DAYLIGHT
BEGIN:STANDARD
TZOFFSETFROM:-0700
TZOFFSETTO:-0800
TZNAME:PST
DTSTART:20261101T090000
END:STANDARD
BEGIN:DAYLIGHT
TZOFFSETFROM:-0800
TZOFFSETTO:-0700
TZNAME:PDT
DTSTART:20270314T100000
END:DAYLIGHT
BEGIN:STANDARD
TZOFFSETFROM:-0700
TZOFFSETTO:-0800
TZNAME:PST
DTSTART:20271107T090000
END:STANDARD
END:VTIMEZONE
BEGIN:VEVENT
DTSTART;TZID=America/Los_Angeles:20260321T100000
DTEND;TZID=America/Los_Angeles:20260321T160000
DTSTAMP:20260423T170313
CREATED:20260123T195541Z
LAST-MODIFIED:20260123T195541Z
UID:2693-1774087200-1774108800@livethedream.org
SUMMARY:Fifty Years of Polyamory in America Made the Bold Authors Curated Reading List
DESCRIPTION:Fifty Years of Polyamory in America: A Guided Tour of a Growing Movement\, by Glen W. Olsen and Terry Lee Brussel-Rogers\, made the Bold Authors curated reading list Listicle #2\, titled Looking Ahead to 2026: Cultural & Social Perspectives That Matter. Glen Olsen will join us for our March 21\, 2026\, Live The Dream meeting to tell us all about it.
URL:https://livethedream.org/event/fifty-years-of-polyamory-in-america-made-the-bold-authors-curated-reading-list/
LOCATION:Live and on Zoom\, 8515 Penfield Ave\, Winnetka\, CA\, 91306\, United States
CATEGORIES:Live The Dream 3rd Saturday
END:VEVENT
BEGIN:VEVENT
DTSTART;TZID=America/Los_Angeles:20260401T180000
DTEND;TZID=America/Los_Angeles:20260401T220000
DTSTAMP:20260423T170313
CREATED:20260303T012456Z
LAST-MODIFIED:20260303T012902Z
UID:2731-1775066400-1775080800@livethedream.org
SUMMARY:Live The Dream Annual Passover Seder
DESCRIPTION:This holiday commemorates the first time one People (the Jews) freed itself from bondage to another People (the Egyptians). \nWe’ll do this with plenty of group participation! You don’t have to read Hebrew for this or even be Jewish. Whether you want to learn more about your own heritage\, just share this special\nholiday with those you care about\, or discover a cultural experience new to you\, you are welcome! \nThis is coordinated pot luck since it requires special foods. This event is FREE to one clean up coordinator and a single or couple who volunteer to bring 5 pounds of lamb or 10\npounds of chicken. \n\nCost: $8.00 with arranged food contribution and one bottle of kosher wine for each adult in\nyour party\, one bottle of grape juice for each child.\n$18 each without food contribution + bring beverage.\nChildren under thirteen free with food\, $5 without.\n\nYou can arrive 6-7 pm to socialize and help with preparations. Seder itself starts at 7:00 pm. \nLed by Rob Milander.
URL:https://livethedream.org/event/live-the-dream-annual-passover-seder/
LOCATION:Penfield Houe\, 8515 Penfield Ave\, Winnetka\, CA\, 91306-1403\, United States
CATEGORIES:Special Event
END:VEVENT
BEGIN:VEVENT
DTSTART;TZID=America/Los_Angeles:20260418T110000
DTEND;TZID=America/Los_Angeles:20260418T160000
DTSTAMP:20260423T170313
CREATED:20260303T012819Z
LAST-MODIFIED:20260303T012819Z
UID:2733-1776510000-1776528000@livethedream.org
SUMMARY:Poly Intersection: Renaissance Pleasure Faire\, Society for Creative Anachronism\, and Dungeons & Dragons.
DESCRIPTION:Led by Elaine Anderson. \nElaine has been a member of Queen’s Court in SCA several times\, participated in Renaissance Pleasure Faire\, and been active in Dungeons & Dragon activities for many years. \nThe Renaissance Pleasure Faire of Southern California was founded by Phyllis and Ron Patterson in 1963. In 1966\, a group of friends (including the writers Diaba Paxson\, Marion\nZimmer Bradley\, Poul Anderson\, and Karen Kruse Anderson) interested in historical reenactment and science fiction/fantasy founded the Society for Creative Anachronism at an\nevent now known as First Tournament in Berkeley\, California. \nBetween that time and this couples have met at Faire or SCA\, married in the Faire Wedding Garden and brought their children back to enjoy it. Some of them have been in Guilds which\nfeature role play Families which can become very real for the 6-12 weekends of Faire and preparing for Faire each year..perhaps for decades. This is even more true with SCA events\nwhich occur several times a year and can involve staying on site for whole weekends or more for the Wars.
URL:https://livethedream.org/event/poly-intersection-renaissance-pleasure-faire-society-for-creative-anachronism-and-dungeons-dragons/
LOCATION:Live and on Zoom\, 8515 Penfield Ave\, Winnetka\, CA\, 91306\, United States
CATEGORIES:Live The Dream 3rd Saturday
END:VEVENT
BEGIN:VEVENT
DTSTART;TZID=America/Los_Angeles:20260502T180000
DTEND;TZID=America/Los_Angeles:20260502T200000
DTSTAMP:20260423T170313
CREATED:20260303T013002Z
LAST-MODIFIED:20260303T013057Z
UID:2735-1777744800-1777752000@livethedream.org
SUMMARY:Beltane Celebration led by High Priestess Lilith
DESCRIPTION:Details TBA.
URL:https://livethedream.org/event/beltane-celebration-led-by-high-priestess-lilith/
LOCATION:Penfield Houe\, 8515 Penfield Ave\, Winnetka\, CA\, 91306-1403\, United States
CATEGORIES:Beltane,Pagan Ritual,Special Event
END:VEVENT
BEGIN:VEVENT
DTSTART;TZID=America/Los_Angeles:20260509T100000
DTEND;TZID=America/Los_Angeles:20260509T190000
DTSTAMP:20260423T170313
CREATED:20260404T225555Z
LAST-MODIFIED:20260404T225555Z
UID:2767-1778320800-1778353200@livethedream.org
SUMMARY:Outing to the Original Pleasure Faire in Irwindale\, CA
DESCRIPTION:BARDIC PLAYS\, BAWDY SONGS\, PAGEANTRY\, UNUSUAL FOOD\, SAUCY WENCHES and OTHER DELIGHTS. \nCALL LTD HOT LINE 818-886-0069 IF YOU WOULD LIKE TO JOIN US THERE. \nThis will be forwarded to Terry’s cell phone day of Faire—call to connect with us on site. \nJoin us at 10:00 am for the Opening Parade\, Faire closes at 6:30. \nLocation: at the Santa Fe Dam Recreation Area\, which is at the Irwindale exit off the 210 Freeway\, just\neast of where the 210 and 605 Freeways cross.
URL:https://livethedream.org/event/outing-to-the-original-pleasure-faire-in-irwindale-ca/
LOCATION:Renaissance Pleasure Faire at the Santa Fe Dam Recreation Area\, 15501 E\, Arrow Highway\, Irwindale\, CA\, 91706\, United States
CATEGORIES:Renaissance Pleasure Faire
END:VEVENT
BEGIN:VEVENT
DTSTART;TZID=America/Los_Angeles:20260516T110000
DTEND;TZID=America/Los_Angeles:20260516T130000
DTSTAMP:20260423T170313
CREATED:20260404T225909Z
LAST-MODIFIED:20260405T000731Z
UID:2770-1778929200-1778936400@livethedream.org
SUMMARY:Spider Robinson's Poly Primers
DESCRIPTION:Callahan’s Crosstime Saloon introduces a group of people who support each other in handling their problems and celebrating their joys. In this and later books they go beyond this to actual group telepathic communication. In Callahan’s Keys they show their commitment to each other by all moving out-of- state together when local laws and the abuse of them prevented them from meeting together where they were. \nAccording to Spider’s biographical material\, many of the metaphysical as well as the group related experiences come from his real-life ones with his expanded family and close friends during the ‘60s in Haight-Ashbury. \nFor more details\, see the full article in the April-May Live the Dream Newsletter.
URL:https://livethedream.org/event/spider-robinsons-poly-primers-3/
LOCATION:Live and on Zoom\, 8515 Penfield Ave\, Winnetka\, CA\, 91306\, United States
CATEGORIES:Live The Dream 3rd Saturday
END:VEVENT
END:VCALENDAR