BEGIN:VCALENDAR
VERSION:2.0
PRODID:-//Live The Dream - ECPv6.15.20//NONSGML v1.0//EN
CALSCALE:GREGORIAN
METHOD:PUBLISH
X-WR-CALNAME:Live The Dream
X-ORIGINAL-URL:https://livethedream.org
X-WR-CALDESC:Events for Live The Dream
REFRESH-INTERVAL;VALUE=DURATION:PT1H
X-Robots-Tag:noindex
X-PUBLISHED-TTL:PT1H
BEGIN:VTIMEZONE
TZID:America/Los_Angeles
BEGIN:DAYLIGHT
TZOFFSETFROM:-0800
TZOFFSETTO:-0700
TZNAME:PDT
DTSTART:20160313T100000
END:DAYLIGHT
BEGIN:STANDARD
TZOFFSETFROM:-0700
TZOFFSETTO:-0800
TZNAME:PST
DTSTART:20161106T090000
END:STANDARD
BEGIN:DAYLIGHT
TZOFFSETFROM:-0800
TZOFFSETTO:-0700
TZNAME:PDT
DTSTART:20170312T100000
END:DAYLIGHT
BEGIN:STANDARD
TZOFFSETFROM:-0700
TZOFFSETTO:-0800
TZNAME:PST
DTSTART:20171105T090000
END:STANDARD
BEGIN:DAYLIGHT
TZOFFSETFROM:-0800
TZOFFSETTO:-0700
TZNAME:PDT
DTSTART:20180311T100000
END:DAYLIGHT
BEGIN:STANDARD
TZOFFSETFROM:-0700
TZOFFSETTO:-0800
TZNAME:PST
DTSTART:20181104T090000
END:STANDARD
END:VTIMEZONE
BEGIN:VEVENT
DTSTART;TZID=America/Los_Angeles:20170521T110000
DTEND;TZID=America/Los_Angeles:20170521T120000
DTSTAMP:20260425T050034
CREATED:20170520T152531Z
LAST-MODIFIED:20170520T152531Z
UID:278-1495364400-1495368000@livethedream.org
SUMMARY:Califur the 13th Terry presents: Live The Dream
DESCRIPTION:Vineyard Ballroom 3 & 4:  Terry will be presenting:Live The Dream \nEver felt it was possible to love more than one special person? Had fantasies of multiple lovers in your bed\, in your life? Have you read and been fascinated by such books as Time Enough for Love (Heinlein)\, Spell Sword/Forbidden Tower (Bradley) or the Dragon Riders of Pern books (Ann McCaffery). People like us do not just exist in Science Fiction books! We’ll help you find out how to choose your most joyous lifestyle and live your Dreams… \nRegistration for Califur is CLOSED. For more information go here. \n 
URL:https://livethedream.org/event/califur-the-13th-terry-presents-live-the-dream/
LOCATION:Sheraton Fairplex Hotel\, 601 W McKinley Avenue\, Pomona\, CA\, 91768\, United States
CATEGORIES:fandom convention appearances
END:VEVENT
BEGIN:VEVENT
DTSTART;TZID=America/Los_Angeles:20170521T100000
DTEND;TZID=America/Los_Angeles:20170521T110000
DTSTAMP:20260425T050034
CREATED:20170520T152157Z
LAST-MODIFIED:20170520T152157Z
UID:275-1495360800-1495364400@livethedream.org
SUMMARY:Califur the 13th Terry presents: HYPNOFANTASY!  Become Your Identifying Animal in your body\, mind and spirit!
DESCRIPTION:Vineyard Ballroom 3 & 4;  Terry will be presenting: HYPNOFANTASY! \nBecome Your Identifying Animal in your body\, mind and spirit!
URL:https://livethedream.org/event/califur-the-13th/
LOCATION:Sheraton Fairplex Hotel\, 601 W McKinley Avenue\, Pomona\, CA\, 91768\, United States
CATEGORIES:fandom convention appearances
END:VEVENT
BEGIN:VEVENT
DTSTART;TZID=America/Los_Angeles:20170520T110000
DTEND;TZID=America/Los_Angeles:20170520T160000
DTSTAMP:20260425T050034
CREATED:20170408T070831Z
LAST-MODIFIED:20170408T070831Z
UID:254-1495278000-1495296000@livethedream.org
SUMMARY:Shifting Realities\, The Mandela Effect and Number Of The Beast
DESCRIPTION:Led by Linda Fitack and Terry Lee Brussel\nLinda has written a book called the Mandela Effect. (click here: www.amazon.com/Mandela-Effect-Confabulation-Fact-ebook/dp/B01I7V60YS). It is not science fiction\, but is about the result of experiments being done by real scientists which are creating micro black holes. This is causing individuals to shift from one possible reality which they were born into to other realities which may differ only insofar as where you put your keys or so different as to contain major bridges where there were none and differing size and location of continents. \nTerry is a certified clinical hypnotherapist (since 1969) who has done psychic readings on parallel lives and taught workshops in how to be aware of one’s own parallel selves living concurrently with us in realities where you made a different decision about what your career would be or who you would marry. This is real\, too\, rather than fantasy\, and has been proven fact as Terry’s knowledge from other realities can be used in this one situation where she had no other access to that knowledge than her window into another reality. \nHow does this relate to polyamory?  Considering the shifting of realities and the different versions of your lifemate(s) you may have already encountered without realizing it\, we may all be poly! Heinlein’s Number of the Beast and To Sail Beyond the Sunset offer alternate realities\, group marriages which have members from several of them in the same group\, and things we can use to\nmake our multiple relationships in the real(?) world work. \nPot Luck lunch 1 pm\nSocializing in clothing optional hot tub 2-4
URL:https://livethedream.org/event/shifting-realities-the-mandela-effect-and-number-of-the-beast/
LOCATION:CA
CATEGORIES:Live The Dream 3rd Saturday
END:VEVENT
BEGIN:VEVENT
DTSTART;TZID=America/Los_Angeles:20170514T100000
DTEND;TZID=America/Los_Angeles:20170514T180000
DTSTAMP:20260425T050034
CREATED:20170408T070752Z
LAST-MODIFIED:20170408T070752Z
UID:252-1494756000-1494784800@livethedream.org
SUMMARY:LTD Outing to Renaissance Pleasure Faire at Santa Fe Dam in Irwindale
DESCRIPTION:Gather round the Maypole! Lunch with the Green Man and admire the deliciously displayed serving wenches. Enjoy robust Shakespearian theater and heavenly dulcimer music. We will meet at Opening. Opening parade is at 10am.Mothers will be honored at opening and throughout Faire this weekend—bring yours or let your kids bring you. Let us know you will be joining us and we can make plans together—LTD hot line. To connect at the Faire\, Terry can be reached at 818-388-5612.
URL:https://livethedream.org/event/ltd-outing-to-renaissance-pleasure-faire-at-santa-fe-dam-in-irwindale/
LOCATION:CA
CATEGORIES:Renaissance Pleasure Faire
END:VEVENT
BEGIN:VEVENT
DTSTART;TZID=America/Los_Angeles:20170415T110000
DTEND;TZID=America/Los_Angeles:20170415T160000
DTSTAMP:20260425T050034
CREATED:20170304T200014Z
LAST-MODIFIED:20170304T200014Z
UID:236-1492254000-1492272000@livethedream.org
SUMMARY:Alternative Dating Etiquette & Group Living - ROOM AVAILABLE in PENFIELD HOUSE!
DESCRIPTION:What do you do when your wife brings her lover home for dinner? Who sleeps where if he offers (or is invited) to stay overnight?  If your wife is sick on a night you’ve got a date\, should you cancel and stay home with her?  Should your girl friend keep you company if you do stay home?  Is it proper poly behavior to bring a lady home for dinner with your wife before taking her to bed or only if considering a serious long term relationship with her?  Should a residential triad (one woman & two men for example) sleep all together or alternate between joining the lady in her bed?  Emily Post did not cover this stuff\, but we will! \nNote: the real answer to all these questions is that they involve agreements between those involved in a couple\, triad or larger group marriage.  All of this is negotiable–preferably before the situation arises… \n1 pm Pot luck lunch\n2 – 4 pm Socializing in clothing optional hot tub. \nROOM AVAILABLE in PENFIELD HOUSE – click here for details.
URL:https://livethedream.org/event/alternative-dating-etiquette/
LOCATION:Live the Dream Center\, 8515 Penfield Ave.\, Winnetka\, CA\, 91306\, United States
END:VEVENT
BEGIN:VEVENT
DTSTART;TZID=America/Los_Angeles:20170410T190000
DTEND;TZID=America/Los_Angeles:20170410T230000
DTSTAMP:20260425T050034
CREATED:20170304T200047Z
LAST-MODIFIED:20170304T200047Z
UID:234-1491850800-1491865200@livethedream.org
SUMMARY:Passover Seder\, Lead By Rob Milander And Ivan Frankel
DESCRIPTION:Call Terry to RSVP before 4/3/17 at (818) 886-0069 to arrange what to bring for the Seder or to attend without a food contribution. We need time to plan things and shop for supplies. \nThis is a Celebration of Freedom! \nThis holiday commemorates the first time one People (the Jews) freed itself from bondage to another People (the Egyptians). We’ll do this this with plenty of group participation!  You don’t have to read Hebrew for this or even be Jewish. Whether you want to learn more about your own heritage\, just share this special holiday with those you care about\, or  discover  a  cultural  experience  new  to  you\,  you  are  welcome!  This  is  a coordinated  pot luck since it requires special foods. This event is FREE to one clean up coordinator\, one serving coordinator\, and the single or couple who volunteers to bring 5 pounds of lamb or 10 pounds of chicken. \nCost:  $8.00  with arranged food contribution and one bottle of kosher wine for each adult in your party\, one bottle of grape juice for each child. $18 each without food contribution + bring beverage. Children under thirteen free with food\, $5 without. \nYou can arrive 6 – 7 pm to socialize and help with preparations.  Seder itself starts at 7:00 pm.
URL:https://livethedream.org/event/passover-seder-lead-by-rob-milander-and-ivan-frankel/
LOCATION:Live the Dream Center\, 8515 Penfield Ave.\, Winnetka\, CA\, 91306\, United States
END:VEVENT
BEGIN:VEVENT
DTSTART;VALUE=DATE:20170317
DTEND;VALUE=DATE:20170319
DTSTAMP:20260425T050034
CREATED:20170304T201858Z
LAST-MODIFIED:20170304T201858Z
UID:225-1489770000-1489856399@livethedream.org
SUMMARY:Poly Next Generation and Happy St Patrick’s Day!
DESCRIPTION:Poly Next Generation and Happy St Patrick’s Day!\nRichard and his wife Devon discuss their lifestyle which is alternative in more ways than one. Devon is several years older than her husband. Their marriage is an open one and both\nof them are bi. Richard’s parents lived the poly lifestyle as he was growing up. His Mother\, Mary\, will share a bit about that… \n1 pm Pot luck lunch\nBring fresh fruit\, salads and your favorite Irish dishes to go with the corn beef and cabbage provided by LTD.\n2 – 3:30 pm\nSpring Equinox Ritual\nled by our High Priestess Ealswythe!\n3:30 – 5:00\nSocializing in the hot tub with Irish Music playing \nThe spring equinox is one of the four great solar festivals of the year. Day and night are equal\, poised and balanced\, but about to tip over on the side of light. The spring equinox is sacred to dawn\, youth\, the morning star and the east. The Saxon goddess\, Eostre (from whose name we get the direction East and the holiday Easter) is a dawn goddess\, like Aurora and Eos. Just as the dawn is the time of new light\, so the vernal equinox is the time of new life. \n\nAll Live the Dream events are 11am – 4pm on 3rd Saturdays\n8515  Penfield  Ave  in Winnetka\,  Ca.  91306 (unless  otherwise  specified).\nNew: Donation suggested for parties (not including  Passover) and regular day time meetings: Ladies Free with potluck dish.  Gentlemen: non-members $10 Members $5 Bring something for the pot luck.
URL:https://livethedream.org/event/live-the-dream-3rd-saturday/
LOCATION:Live the Dream Center\, 8515 Penfield Ave.\, Winnetka\, CA\, 91306\, United States
CATEGORIES:Live The Dream 3rd Saturday
END:VEVENT
END:VCALENDAR