BEGIN:VCALENDAR
VERSION:2.0
PRODID:-//Live The Dream - ECPv6.15.20//NONSGML v1.0//EN
CALSCALE:GREGORIAN
METHOD:PUBLISH
X-ORIGINAL-URL:https://livethedream.org
X-WR-CALDESC:Events for Live The Dream
REFRESH-INTERVAL;VALUE=DURATION:PT1H
X-Robots-Tag:noindex
X-PUBLISHED-TTL:PT1H
BEGIN:VTIMEZONE
TZID:America/Los_Angeles
BEGIN:DAYLIGHT
TZOFFSETFROM:-0800
TZOFFSETTO:-0700
TZNAME:PDT
DTSTART:20230312T100000
END:DAYLIGHT
BEGIN:STANDARD
TZOFFSETFROM:-0700
TZOFFSETTO:-0800
TZNAME:PST
DTSTART:20231105T090000
END:STANDARD
BEGIN:DAYLIGHT
TZOFFSETFROM:-0800
TZOFFSETTO:-0700
TZNAME:PDT
DTSTART:20240310T100000
END:DAYLIGHT
BEGIN:STANDARD
TZOFFSETFROM:-0700
TZOFFSETTO:-0800
TZNAME:PST
DTSTART:20241103T090000
END:STANDARD
BEGIN:DAYLIGHT
TZOFFSETFROM:-0800
TZOFFSETTO:-0700
TZNAME:PDT
DTSTART:20250309T100000
END:DAYLIGHT
BEGIN:STANDARD
TZOFFSETFROM:-0700
TZOFFSETTO:-0800
TZNAME:PST
DTSTART:20251102T090000
END:STANDARD
END:VTIMEZONE
BEGIN:VEVENT
DTSTART;TZID=America/Los_Angeles:20240316T110000
DTEND;TZID=America/Los_Angeles:20240316T160000
DTSTAMP:20260425T161715
CREATED:20240403T002704Z
LAST-MODIFIED:20240802T035438Z
UID:2041-1710586800-1710604800@livethedream.org
SUMMARY:Dragon Riders of (Poly) Pern by Anne McCaffery; also\, Memories of Mark Merlino
DESCRIPTION:In a world protected from life destroying spores by genetically engineered fire breathing dragons bonded at their hatching to empathic human dragon riders\, the social structure is an unusual one. Queen dragons are ridden by women\, Browns and Bronzes by males. However\, males as well as females can bond with and ride female fire breathing green dragons. When a rider’s dragon makes her mating flight\, the passions of their dragons cause the riders to mate in their own way. In the Weyr caves which house dragons and their riders\, sexual mores are different from those on the rest of the planet of Pern since dragons may not honor the current romantic commitments of their riders when mating. Since the Weyrs are group living arrangements in any case\, children resulting from such liaisons are raised by the “village” with a foster mother and/or father doing the primary parenting.
URL:https://livethedream.org/event/dragon-riders-of-poly-pern-by-anne-mccaffery-also-memories-of-mark-merlino/
LOCATION:Live the Dream Center\, 8515 Penfield Ave.\, Winnetka\, CA\, 91306\, United States
CATEGORIES:Live The Dream 3rd Saturday,Pot Luck
END:VEVENT
END:VCALENDAR