BEGIN:VCALENDAR
VERSION:2.0
PRODID:-//Live The Dream - ECPv6.15.20//NONSGML v1.0//EN
CALSCALE:GREGORIAN
METHOD:PUBLISH
X-WR-CALNAME:Live The Dream
X-ORIGINAL-URL:https://livethedream.org
X-WR-CALDESC:Events for Live The Dream
REFRESH-INTERVAL;VALUE=DURATION:PT1H
X-Robots-Tag:noindex
X-PUBLISHED-TTL:PT1H
BEGIN:VTIMEZONE
TZID:America/Los_Angeles
BEGIN:DAYLIGHT
TZOFFSETFROM:-0800
TZOFFSETTO:-0700
TZNAME:PDT
DTSTART:20230312T100000
END:DAYLIGHT
BEGIN:STANDARD
TZOFFSETFROM:-0700
TZOFFSETTO:-0800
TZNAME:PST
DTSTART:20231105T090000
END:STANDARD
BEGIN:DAYLIGHT
TZOFFSETFROM:-0800
TZOFFSETTO:-0700
TZNAME:PDT
DTSTART:20240310T100000
END:DAYLIGHT
BEGIN:STANDARD
TZOFFSETFROM:-0700
TZOFFSETTO:-0800
TZNAME:PST
DTSTART:20241103T090000
END:STANDARD
BEGIN:DAYLIGHT
TZOFFSETFROM:-0800
TZOFFSETTO:-0700
TZNAME:PDT
DTSTART:20250309T100000
END:DAYLIGHT
BEGIN:STANDARD
TZOFFSETFROM:-0700
TZOFFSETTO:-0800
TZNAME:PST
DTSTART:20251102T090000
END:STANDARD
END:VTIMEZONE
BEGIN:VEVENT
DTSTART;TZID=America/Los_Angeles:20241201T100000
DTEND;TZID=America/Los_Angeles:20241201T111500
DTSTAMP:20260424T122054
CREATED:20241129T050753Z
LAST-MODIFIED:20241129T050753Z
UID:2284-1733047200-1733051700@livethedream.org
SUMMARY:LOSCON 50\, the 50th annual Los Angeles Science Regional Fiction and Fantasy Convention
DESCRIPTION:We would like to direct your attention to the panel Social Conventions in Heinlein: Families\, Finances\, and Systems of Government\, which is scheduled to start at 10 AM PST on Sunday\, December 1st. Join Glen Olson and Terry Brussel-Rogers\, co-authors of Fifty Years of Polyamory in America: A Guided Tour of a Growing Movement\, and other panelists) for this exciting discussion! \nWere you inspired by the multi-generational Line Marriage from The Moon Is a Harsh Mistress\, warmed by the Nest in Stranger in a Strange Land\, fascinated by the group marriage and other relationship possibilities presented in Time Enough for Love through To Sail Beyond the Sunset? We’ll talk about how these concepts can enhance our real lives in Love… and in Freedom!
URL:https://livethedream.org/event/loscon-50-the-50th-annual-los-angeles-science-regional-fiction-and-fantasy-convention/
LOCATION:Loscon at the LAX Hilton Hotel\, 5711 W Century Blvd\, Los Angeles\, CA\, 90045\, United States
END:VEVENT
BEGIN:VEVENT
DTSTART;TZID=America/Los_Angeles:20241221T110000
DTEND;TZID=America/Los_Angeles:20241221T160000
DTSTAMP:20260424T122054
CREATED:20241220T051047Z
LAST-MODIFIED:20241220T051620Z
UID:2305-1734778800-1734796800@livethedream.org
SUMMARY:Group Marriage/Group Living SF Samples
DESCRIPTION:Saturday December 21\, 2024 Live: 11 AM – 4 PM PST Zoom: 11-1 PST \nGroup Marriage/Group Living SF Samples: Robert A. Heinlein (Future History)\, Spider Robinson (Callahan books) & S. M. Sterling’s Novels of the Change:Fantasy or reality? What aspects of these do we want in our own lives & how can we create them?
URL:https://livethedream.org/event/group-marriage-group-living-sf-samples/
LOCATION:Live and on Zoom\, 8515 Penfield Ave\, Winnetka\, CA\, 91306\, United States
CATEGORIES:Live The Dream 3rd Saturday,Pot Luck
END:VEVENT
BEGIN:VEVENT
DTSTART;TZID=America/Los_Angeles:20241221T180000
DTEND;TZID=America/Los_Angeles:20241221T230000
DTSTAMP:20260424T122054
CREATED:20241220T051533Z
LAST-MODIFIED:20241220T051658Z
UID:2307-1734804000-1734822000@livethedream.org
SUMMARY:Winter Solstice Ritual and Holiday Party
DESCRIPTION:6 PM: Pot Luck Dinner7:30 PM: Winter Solstice Ritual led by High Priestess Lillith \nLatkes (provided by Live the Dream\, along with Apple Sauce and Sour Cream)\, songs about the Maccabees\, dreidels\, lighted up Christmas miniature houses\, and a Winter Solstice ritual. Although Hanukkah doesn’t start until December 25th this year\, we will still light a candle in a menorah in celebration. \nDid we forget a ritual important to you? Tell us and we’ll add it. Bring stories/songs/poetry to share. There will be live and recorded music of various holiday flavors… and Karaoke! \nBring: Your favorite holiday dish for pot luck supper—(big enough for 10 to share). There will be a GIFT EXCHANGE at 7 PM: Bring a wrapped science fiction\, erotic (tasteful please!)\, fantasy\, or magikal gift item ($10-$15) if you want to participate. \nSharing our holidays is part of what weaves the bonds of Family in a group like ours. Understanding what is important to each of us during this festive season and how we celebrate it is a way to grow closer and delight in our diversity. \nClothing optional Jacuzzi (with holiday music playing inside it!) available all afternoon and evening–bring sandals and towels. \n(Crash space available by arrangement when you RSVP.) \nGood Yule!
URL:https://livethedream.org/event/winter-solstice-ritual-and-holiday-party/
LOCATION:Live the Dream Center\, 8515 Penfield Ave.\, Winnetka\, CA\, 91306\, United States
CATEGORIES:Holiday Themed,Live Music,Pagan Ritual,Pot Luck,Special Event
END:VEVENT
END:VCALENDAR