BEGIN:VCALENDAR
VERSION:2.0
PRODID:-//Live The Dream - ECPv6.15.20//NONSGML v1.0//EN
CALSCALE:GREGORIAN
METHOD:PUBLISH
X-ORIGINAL-URL:https://livethedream.org
X-WR-CALDESC:Events for Live The Dream
REFRESH-INTERVAL;VALUE=DURATION:PT1H
X-Robots-Tag:noindex
X-PUBLISHED-TTL:PT1H
BEGIN:VTIMEZONE
TZID:America/Los_Angeles
BEGIN:DAYLIGHT
TZOFFSETFROM:-0800
TZOFFSETTO:-0700
TZNAME:PDT
DTSTART:20240310T100000
END:DAYLIGHT
BEGIN:STANDARD
TZOFFSETFROM:-0700
TZOFFSETTO:-0800
TZNAME:PST
DTSTART:20241103T090000
END:STANDARD
BEGIN:DAYLIGHT
TZOFFSETFROM:-0800
TZOFFSETTO:-0700
TZNAME:PDT
DTSTART:20250309T100000
END:DAYLIGHT
BEGIN:STANDARD
TZOFFSETFROM:-0700
TZOFFSETTO:-0800
TZNAME:PST
DTSTART:20251102T090000
END:STANDARD
BEGIN:DAYLIGHT
TZOFFSETFROM:-0800
TZOFFSETTO:-0700
TZNAME:PDT
DTSTART:20260308T100000
END:DAYLIGHT
BEGIN:STANDARD
TZOFFSETFROM:-0700
TZOFFSETTO:-0800
TZNAME:PST
DTSTART:20261101T090000
END:STANDARD
END:VTIMEZONE
BEGIN:VEVENT
DTSTART;TZID=America/Los_Angeles:20250118T110000
DTEND;TZID=America/Los_Angeles:20250118T160000
DTSTAMP:20260424T091644
CREATED:20241220T053850Z
LAST-MODIFIED:20250110T225225Z
UID:2322-1737198000-1737216000@livethedream.org
SUMMARY:Polyamory and Swinging : Black and White or Shades of Gray?
DESCRIPTION:When does “swinging” become deep and caring enough to be called Polyamory?Led by Paul Gibbons.\nPaul and Terry did Live the Dream presentations at the Lifestyles Convention for several years\, and also led Evening of Caressive Intimacy\, one of that convention’s main events. It included sensual massage and guided meditation for deeper connection with the partner you came with as well as those special others they may draw into their lives. \nWhile some of the parties at this convention were hard swinging (NOT ones we chose to attend) in which two people might have sex without even exchanging names\, it also included presentations by those who had long term group marriages. \nThe Lifestyles Convention was organized by a Hospitality Committee who handled everything from music and refreshments to decisions on ejecting those who offered inappropriate advances to ladies (or gentlemen) who had said NO. The members of this committee frequently stayed with it for several years. They attended the bar/bat mitzvahsand birthday celebrations of each other’s kids\, participated in each other’s wedding parties\, and were there for each other during life’s losses. When they made love at a party\, was that Swinging\, Polyamory\, or some shade of gray in between? \nBring your questions\, personal experiences\, and what Wisdom you care to share… \n1 pm Pot Luck lunch—Bring something healthy and delicious to share!\n2-4 pm Socializing in clothing optional jacuzzi—Bring sandals and a towel.
URL:https://livethedream.org/event/polyamory-and-swinging-black-and-white-or-shades-of-gray/
LOCATION:Live and on Zoom\, 8515 Penfield Ave\, Winnetka\, CA\, 91306\, United States
CATEGORIES:Live The Dream 3rd Saturday
END:VEVENT
END:VCALENDAR