BEGIN:VCALENDAR
VERSION:2.0
PRODID:-//Live The Dream - ECPv6.15.20//NONSGML v1.0//EN
CALSCALE:GREGORIAN
METHOD:PUBLISH
X-WR-CALNAME:Live The Dream
X-ORIGINAL-URL:https://livethedream.org
X-WR-CALDESC:Events for Live The Dream
REFRESH-INTERVAL;VALUE=DURATION:PT1H
X-Robots-Tag:noindex
X-PUBLISHED-TTL:PT1H
BEGIN:VTIMEZONE
TZID:America/Los_Angeles
BEGIN:DAYLIGHT
TZOFFSETFROM:-0800
TZOFFSETTO:-0700
TZNAME:PDT
DTSTART:20240310T100000
END:DAYLIGHT
BEGIN:STANDARD
TZOFFSETFROM:-0700
TZOFFSETTO:-0800
TZNAME:PST
DTSTART:20241103T090000
END:STANDARD
BEGIN:DAYLIGHT
TZOFFSETFROM:-0800
TZOFFSETTO:-0700
TZNAME:PDT
DTSTART:20250309T100000
END:DAYLIGHT
BEGIN:STANDARD
TZOFFSETFROM:-0700
TZOFFSETTO:-0800
TZNAME:PST
DTSTART:20251102T090000
END:STANDARD
BEGIN:DAYLIGHT
TZOFFSETFROM:-0800
TZOFFSETTO:-0700
TZNAME:PDT
DTSTART:20260308T100000
END:DAYLIGHT
BEGIN:STANDARD
TZOFFSETFROM:-0700
TZOFFSETTO:-0800
TZNAME:PST
DTSTART:20261101T090000
END:STANDARD
END:VTIMEZONE
BEGIN:VEVENT
DTSTART;TZID=America/Los_Angeles:20250215T110000
DTEND;TZID=America/Los_Angeles:20250215T160000
DTSTAMP:20260424T075105
CREATED:20250205T030939Z
LAST-MODIFIED:20250205T030939Z
UID:2350-1739617200-1739635200@livethedream.org
SUMMARY:Happy Valentines Day! Finding Poly Partners for Singles\, Couples\, Triads\, and Moreads
DESCRIPTION:Happy Valentines Day!\nFinding Poly Partners for Singles\, Couples\, Triads\, and Moreads.\nLed by 4 th Generation Matchmaker Terry Brussel-Rogers.\nTerry wrote Choosing\, Finding and Attracting Your Life Mate in 1992\, with its most recent 2020 edition introduced at Conscious Life Expo in February of 2020. This will be given as a gift to whoever attends this event\, live or on Zoom\, as an e-book and with the guided meditation recording Attract Your Special Someone(s). Terry ran her family’s matchmaking service\, Marriage Minded Introductions\, for forty years while doing hypnotherapy and poly relationship coaching. Everyone attending will be given the poly supplement to her book. The 11 am – 1 pm portion of this meeting climaxes in a Guided Meditation Love Magnet to draw your Mate(s) into your life! \nHow was your Valentine’s Day? Did you celebrate it with someone you love? \nWhether you are a single looking for the right partner for a primary relationship\, a couple seeking a third to make a triad\, a couple looking to pair with another couple or any of these\, or looking for a group house or intimate network to join\, this is the meeting to find out how… in person or online! \nThere are MANY ways to get into the relationship(s) you desire. We will talk about some of those ways as well as how to maintain and bring more Joy to any ongoing romantic relationship… help them evolve into a live-in situation if they haven’t gotten there yet and that is what you want. Whatever it is you want\, it can be accomplished by knowing how to make it happen. Guided meditation for Attracting Your Special Someone(s) climaxes the Zoom portion of this event. It is also available on our web store at acesuccess.com \nIf you are local\, do join us in person. Hugs and hot tubs are better in person… \n1 pm: Pot Luck lunch—Bring something healthy and delicious …something you might\nwant to share with someone you love.\n2-4 pm: Socializing in clothing optional jacuzzi—Bring sandals and a towel.\n6 pm: Pot luck dinner. Bring something healthy and delicious.\n7-10ish pm: Filk (folk songs of Science Fiction) live and on Zoom (same meeting ID)\nFrom the outrageously funny Banned from Argo Star Trek spoof to the Ballad of Apollo 13 and other more serious songs of the space age. Ask for a Harry Potter song or something on group marriage by Heinlein and you are likely to get it!
URL:https://livethedream.org/event/happy-valentines-day-finding-poly-partners-for-singles-couples-triads-and-moreads/
LOCATION:Live and on Zoom\, 8515 Penfield Ave\, Winnetka\, CA\, 91306\, United States
END:VEVENT
END:VCALENDAR