BEGIN:VCALENDAR
VERSION:2.0
PRODID:-//Live The Dream - ECPv6.15.20//NONSGML v1.0//EN
CALSCALE:GREGORIAN
METHOD:PUBLISH
X-ORIGINAL-URL:https://livethedream.org
X-WR-CALDESC:Events for Live The Dream
REFRESH-INTERVAL;VALUE=DURATION:PT1H
X-Robots-Tag:noindex
X-PUBLISHED-TTL:PT1H
BEGIN:VTIMEZONE
TZID:America/Los_Angeles
BEGIN:DAYLIGHT
TZOFFSETFROM:-0800
TZOFFSETTO:-0700
TZNAME:PDT
DTSTART:20240310T100000
END:DAYLIGHT
BEGIN:STANDARD
TZOFFSETFROM:-0700
TZOFFSETTO:-0800
TZNAME:PST
DTSTART:20241103T090000
END:STANDARD
BEGIN:DAYLIGHT
TZOFFSETFROM:-0800
TZOFFSETTO:-0700
TZNAME:PDT
DTSTART:20250309T100000
END:DAYLIGHT
BEGIN:STANDARD
TZOFFSETFROM:-0700
TZOFFSETTO:-0800
TZNAME:PST
DTSTART:20251102T090000
END:STANDARD
BEGIN:DAYLIGHT
TZOFFSETFROM:-0800
TZOFFSETTO:-0700
TZNAME:PDT
DTSTART:20260308T100000
END:DAYLIGHT
BEGIN:STANDARD
TZOFFSETFROM:-0700
TZOFFSETTO:-0800
TZNAME:PST
DTSTART:20261101T090000
END:STANDARD
END:VTIMEZONE
BEGIN:VEVENT
DTSTART;TZID=America/Los_Angeles:20250315T110000
DTEND;TZID=America/Los_Angeles:20250315T160000
DTSTAMP:20260424T075232
CREATED:20250205T031306Z
LAST-MODIFIED:20250205T031306Z
UID:2352-1742036400-1742054400@livethedream.org
SUMMARY:Happy St. Patrick’s Day! Celtic Polyamory – Real and in SF
DESCRIPTION:Handfasting has its roots in Celtic tradition\, the most common being the Year and A Day commitment ceremony. Originally\, this was a time for couples to get to know each other by living together and deciding if they wanted to spend their lives together. If a pregnancy resulted from it\, the handfasting became a legal marriage. \nToday we have ways to prevent an unintended pregnancy and not everyone doing this is of an age where such a thing would even be possible. Still\, it is something more committed than just “living together” or even being engaged without living together. The custom is very common among Pagans\, many of whom are poly. \nWe will also discuss handfasting as one method of making a commitment to someone you are adding to your marriage in a serious way. Such a relationship may look like an open committed legal marriage between two people or a plural marriage by contract with similar rights and responsibilities to a legal marriage. SF books such as The Avatar by Poul Anderson and Marion Zimmer Bradley’s Darkover novels are full of Celtic delights. \nWe will enjoy corn beef and cabbage for our potluck lunch and Irish music in our clothing-optional hot tub.
URL:https://livethedream.org/event/happy-st-patricks-day-celtic-polyamory-real-and-in-sf/
LOCATION:Live and on Zoom\, 8515 Penfield Ave\, Winnetka\, CA\, 91306\, United States
CATEGORIES:Live The Dream 3rd Saturday,Pot Luck
END:VEVENT
END:VCALENDAR