BEGIN:VCALENDAR
VERSION:2.0
PRODID:-//Live The Dream - ECPv6.15.20//NONSGML v1.0//EN
CALSCALE:GREGORIAN
METHOD:PUBLISH
X-ORIGINAL-URL:https://livethedream.org
X-WR-CALDESC:Events for Live The Dream
REFRESH-INTERVAL;VALUE=DURATION:PT1H
X-Robots-Tag:noindex
X-PUBLISHED-TTL:PT1H
BEGIN:VTIMEZONE
TZID:America/Los_Angeles
BEGIN:DAYLIGHT
TZOFFSETFROM:-0800
TZOFFSETTO:-0700
TZNAME:PDT
DTSTART:20240310T100000
END:DAYLIGHT
BEGIN:STANDARD
TZOFFSETFROM:-0700
TZOFFSETTO:-0800
TZNAME:PST
DTSTART:20241103T090000
END:STANDARD
BEGIN:DAYLIGHT
TZOFFSETFROM:-0800
TZOFFSETTO:-0700
TZNAME:PDT
DTSTART:20250309T100000
END:DAYLIGHT
BEGIN:STANDARD
TZOFFSETFROM:-0700
TZOFFSETTO:-0800
TZNAME:PST
DTSTART:20251102T090000
END:STANDARD
BEGIN:DAYLIGHT
TZOFFSETFROM:-0800
TZOFFSETTO:-0700
TZNAME:PDT
DTSTART:20260308T100000
END:DAYLIGHT
BEGIN:STANDARD
TZOFFSETFROM:-0700
TZOFFSETTO:-0800
TZNAME:PST
DTSTART:20261101T090000
END:STANDARD
END:VTIMEZONE
BEGIN:VEVENT
DTSTART;VALUE=DATE:20250502
DTEND;VALUE=DATE:20250505
DTSTAMP:20260424T015422
CREATED:20250415T034845Z
LAST-MODIFIED:20250415T034845Z
UID:2389-1746144000-1746403199@livethedream.org
SUMMARY:Beltane at Annwfn
DESCRIPTION:We are bringing back the Beltane festival at Annwfn! May 2-4\, 2025\, on our sacred land at Annwfn. Featuring May Games\, bardic circle\, potluck feasts\, bonfire\, Maypole dance\, silent auction\, and more! $25 to $50 sliding scale\, no one turned away for lack of funds. \nBring camping gear\, layers for possible weather\, a contribution for a bardic circle\, food to\nshare\, extra water\, and altar offerings. Annwfn will provide kitchen gear and a main course for the Saturday feast. Please contact Diana Morningstar at diana@miragearts.com for more info or details. Click here to register! \nWork trade is available for volunteer kitchen work\, vehicle shuttle\, and preparation work at the work parties.
URL:https://livethedream.org/event/beltane-at-annwfn/
LOCATION:Live and on Zoom\, 8515 Penfield Ave\, Winnetka\, CA\, 91306\, United States
CATEGORIES:Beltane,Pagan Ritual,Special Event
END:VEVENT
BEGIN:VEVENT
DTSTART;TZID=America/Los_Angeles:20250510T100000
DTEND;TZID=America/Los_Angeles:20250510T170000
DTSTAMP:20260424T015422
CREATED:20250415T034542Z
LAST-MODIFIED:20250415T040827Z
UID:2386-1746871200-1746896400@livethedream.org
SUMMARY:Renaissance Pleasure Faire Live the Dream Outing
DESCRIPTION:We will visit the Renaissance Pleasure Faire of Southern California on Saturday\, May 10\, 2025\, from 10 AM to 5 PM (roughly). Please join us on this outing! We’ll see you at the Faire! \nCall the Live The Dream hotline\, 818-886-0069\, to coordinate. For more information about the Faire\, visit the Faire’s website!
URL:https://livethedream.org/event/renaissance-pleasure-faire-live-the-dream-outingwe-wi/
LOCATION:Renaissance Pleasure Faire at the Santa Fe Dam Recreation Area\, 15501 E\, Arrow Highway\, Irwindale\, CA\, 91706\, United States
CATEGORIES:Renaissance Pleasure Faire
END:VEVENT
BEGIN:VEVENT
DTSTART;TZID=America/Los_Angeles:20250517T100000
DTEND;TZID=America/Los_Angeles:20250517T130000
DTSTAMP:20260424T015422
CREATED:20250415T035037Z
LAST-MODIFIED:20250415T035037Z
UID:2391-1747476000-1747486800@livethedream.org
SUMMARY:Renaissance Pleasure Faire Poly Connections
DESCRIPTION:The Renaissance Pleasure Faire of Southern California was founded by Phyllis and Ron Patterson in 1963. Between that time and this couples have met at the Faire\, married in its Wedding Garden\, and brought their children back to enjoy it. Some of them have been in Guilds which feature role play Families which can become very real for the 6-12 weekends of Faire and preparing for Faire each year… perhaps for decades. \nThe children may regard Faire family as Aunts\, Uncles and perhaps cousins by Choice. There are couples who having met at Faire and formed romantic relationships there\, have legal marriages separate from Faire. In some cases\, spouses who do not go to Faire or choose put in the time and commitment necessary to be part of one of these Guilds know about these romantic connections which have perhaps gone on for many years before they knew or married their husband or wife and have consented to them. \nIf they meet and form friendships with such people\, it can lead to kitchen table polyamory or even group marriage. Or they may just accept that for the weekends of Faire\, this relationship will continue separately from the marriage. \nSome of this may depend on whether the other partner lives close enough to spend time together separate from Faire. I believe that as long as the non-Faire spouse knows and willingly consents to the arrangement\, it is poly. If they do not know or do not willing consent to it\, that is just garden variety cheating. What do you think?
URL:https://livethedream.org/event/renaissance-pleasure-faire-poly-connections/
LOCATION:Live and on Zoom\, 8515 Penfield Ave\, Winnetka\, CA\, 91306\, United States
CATEGORIES:Live The Dream 3rd Saturday,Pot Luck,Renaissance Pleasure Faire
END:VEVENT
END:VCALENDAR